BEGIN:VCALENDAR
VERSION:2.0
BEGIN:VEVENT
URL:https://woolexchange.oztix.com.au/outlet/event/60b243af-ce70-4ca7-85f0-dcb422b20c51
DTSTART:20261017T090000Z
DTEND:20261017T090000Z
SUMMARY:GHOSTS OF GRUNGE: The Voices That Lived Loud and Died Young
DESCRIPTION:Event details: https://woolexchange.oztix.com.au/outlet/event/60b243af-ce70-4ca7-85f0-dcb422b20c51
LOCATION:The Wool Exchange (Geelong, VIC)
END:VEVENT
END:VCALENDAR